
BEGIN:VCALENDAR
VERSION:2.0
PRODID:Ludger using PHP/v0.1
X-PUBLISHED-TTL:PT15MIN
METHOD:PUBLISH
X-WR-CALNAME:Maths & Stats Events
BEGIN:VEVENT
UID:GLW_UNI_MS_WEBEVT_11666@maths-stats.gla.ac.uk
DTSTAMP:19700101T000000Z
DTSTART:20260423T150000Z
DTEND:20260423T160000Z
SUMMARY:Analysis Seminar: Some results on crossed product Banach algebras - Rachid El Harti (Hassan I University )
DESCRIPTION:Abstract: From a locally compact group\, a concrete Banach algebra\, and an action of this group on this algebra\, we construct an equally concrete algebra called Crossed Product Banach algebra associated with a dynamical system. The study of this class of algebras plays a very important role in abstract...\N\NMore information: http://www.gla.ac.uk/schools/mathematicsstatistics/events/details/?id=11666
LOCATION:Maths 116
SEQUENCE:2
STATUS:CONFIRMED
CLASS:PUBLIC
END:VEVENT
END:VCALENDAR

